BEGIN:VCALENDAR
PRODID:-//eluceo/ical//2.0/EN
VERSION:2.0
CALSCALE:GREGORIAN
BEGIN:VEVENT
UID:687ea70680cb49d99b5505c24351cc2b
DTSTAMP:20260423T040353Z
SUMMARY:Uncork your support- Giving Tuesday
DESCRIPTION:Jewish Federation of West-Central New Jersey\nCommunity Calenda
 r\nhttps://jfedwcnj.org/calendar/super-week-1528301282\n\nJoin us for some
  wine\,cheese and to make a few calls on behalf of the community. 
DTSTART;TZID=America/New_York:20181127T180000
DTEND;TZID=America/New_York:20181127T200000
END:VEVENT
END:VCALENDAR
