BEGIN:VCALENDAR
PRODID:-//eluceo/ical//2.0/EN
VERSION:2.0
CALSCALE:GREGORIAN
BEGIN:VEVENT
UID:6100ba12a9b0aedaf7eae33ccf5aeac2
DTSTAMP:20260423T093154Z
SUMMARY:Super Sunday Silent Auction Raffles at the JCC Lobby
DESCRIPTION:Jewish Federation of West-Central New Jersey\nCommunity Calenda
 r\nhttps://jfedwcnj.org/calendar/super-sunday-silent-auction-raffles-at-th
 e-jcc-lobby\n\nSuper Sunday Raffles
DTSTART;TZID=America/New_York:20131125T000000
DTEND;TZID=America/New_York:20131125T235900
END:VEVENT
END:VCALENDAR
