BEGIN:VCALENDAR
PRODID:-//eluceo/ical//2.0/EN
VERSION:2.0
CALSCALE:GREGORIAN
BEGIN:VEVENT
UID:48777bae12adc6504f3325892f848109
DTSTAMP:20260423T235745Z
SUMMARY:Super Sunday Prep!
DESCRIPTION:Jewish Federation of West-Central New Jersey\nCommunity Calenda
 r\nhttps://jfedwcnj.org/calendar/super-sunday-prep-1450800636\n\nPreparati
 on and decoration of the multipurpose rooms for Super Sunday!
DTSTART;TZID=America/New_York:20161202T130000
DTEND;TZID=America/New_York:20161203T235500
END:VEVENT
END:VCALENDAR
