BEGIN:VCALENDAR
PRODID:-//eluceo/ical//2.0/EN
VERSION:2.0
CALSCALE:GREGORIAN
BEGIN:VEVENT
UID:9b1fd04108678fd157f7afcc286983fb
DTSTAMP:20260420T193912Z
SUMMARY:Super Sunday 2021
DESCRIPTION:Jewish Federation of West-Central New Jersey\nCommunity Calenda
 r\nhttps://jfedwcnj.org/calendar/super-sunday-2021\n\nJoin the Jewish Fede
 ration of Somerset\, Hunterdon & Warren Counties as a volunteer at Virtual
  Super Sunday starting 10:30AM with a Zoom kickoff and training.\n\n \n\n
 Your participation in Super Sunday ensures the delivery of vital services 
 to Holocaust survivors\, seniors\, children\, adults and those with specia
 l needs\, here at home\, in Israel and around the globe. We’ve been here
  for 60 years\, and we’re here for Good.\n\n \n\n              
                   \n\nBagels ar...
DTSTART;TZID=America/New_York:20211107T090000
DTEND;TZID=America/New_York:20211107T170000
END:VEVENT
END:VCALENDAR
