BEGIN:VCALENDAR
PRODID:-//eluceo/ical//2.0/EN
VERSION:2.0
CALSCALE:GREGORIAN
BEGIN:VEVENT
UID:403beb364fb7f97e6474a979612e7235
DTSTAMP:20260421T231107Z
SUMMARY:SUPER SUNDAY!
DESCRIPTION:Jewish Federation of West-Central New Jersey\nCommunity Calenda
 r\nhttps://jfedwcnj.org/calendar/super-sunday-2017\n\nVolunteer your time 
 and be a superhero for the Jewish world. How?? By getting on the phone in 
 partnership with Federation and making powerful calls to the community. C
 alls for donations that will change lives and strengthen our entire commun
 ity at home\, in Israel and wherever Jews are in need around the globe.\n\
 nMake sure to check out all the events going on during SUPER WEEK\, all le
 ading up to SUPER SUNDAY. At each event\, volunteers will transform into C
 ommunity Superheroes\, participating ...
DTSTART;TZID=America/New_York:20171203T100000
DTEND;TZID=America/New_York:20171203T130000
END:VEVENT
END:VCALENDAR
