BEGIN:VCALENDAR
PRODID:-//eluceo/ical//2.0/EN
VERSION:2.0
CALSCALE:GREGORIAN
BEGIN:VEVENT
UID:487d91a66f85a618f0ed886372297e84
DTSTAMP:20260423T125800Z
SUMMARY:Super Sunday 2016!!
DESCRIPTION:Jewish Federation of West-Central New Jersey\nCommunity Calenda
 r\nhttps://jfedwcnj.org/calendar/super-sunday-2016-1450800527\n\nOur Bigge
 st Fundraiser of the Year!!
DTSTART;TZID=America/New_York:20161204T093000
DTEND;TZID=America/New_York:20161204T140000
END:VEVENT
END:VCALENDAR
