BEGIN:VCALENDAR
PRODID:-//eluceo/ical//2.0/EN
VERSION:2.0
CALSCALE:GREGORIAN
BEGIN:VEVENT
UID:f2d834197fc4a9cc808c200f88ec6cbd
DTSTAMP:20260422T005027Z
SUMMARY:Summer Book Discussion Series: We Are Not Free
DESCRIPTION:Jewish Federation of West-Central New Jersey\nCommunity Calenda
 r\nhttps://jfedwcnj.org/calendar/summer-book-discussion-series-we-are-not-
 free\n\n The Raritan Valley Community College Institute for Holocaust and
  Genocide Studies will present a virtual Summer Book Series beginning Ju
 ne 18. Held via Zoom webinars\, the programs are free of charge and op
 en to the public. The series\, which features discussions of award-winning
  novels that explore the past\, includes Friday\, July 16\, 10-11 a.m. W
 e Are Not Free The novel by Traci Chee features a collective account of a
  tight-knit group of young Nisei\, second-generation Japanese Ameri...
DTSTART;TZID=America/New_York:20210716T100000
DTEND;TZID=America/New_York:20210716T110000
END:VEVENT
END:VCALENDAR
