BEGIN:VCALENDAR
PRODID:-//eluceo/ical//2.0/EN
VERSION:2.0
CALSCALE:GREGORIAN
BEGIN:VEVENT
UID:47dfbf6b3c81c4191ba4d9c148a0bb71
DTSTAMP:20260422T101350Z
SUMMARY:Summer Book Discussion Series: The Yellow Bird Sings
DESCRIPTION:Jewish Federation of West-Central New Jersey\nCommunity Calenda
 r\nhttps://jfedwcnj.org/calendar/summer-book-discussion-series-the-yellow-
 bird-sings\n\nThe Raritan Valley Community College Institute for Holocaust
  and Genocide Studies will present a virtual Summer Book Series beginnin
 g June 18. Held via Zoom webinars\, the programs are free of charge an
 d open to the public. The series\, which features discussions of award-win
 ning novels that explore the past\, includes: \n\nFriday\, June 18\, 10-1
 1 a.m. The Yellow Bird Sings  Author Jennifer Rosner will speak about he
 r debut novel\, which was inspired by the true stories of Jewish children.
 ..
DTSTART;TZID=America/New_York:20210618T100000
DTEND;TZID=America/New_York:20210618T110000
END:VEVENT
END:VCALENDAR
