BEGIN:VCALENDAR
PRODID:-//eluceo/ical//2.0/EN
VERSION:2.0
CALSCALE:GREGORIAN
BEGIN:VEVENT
UID:c063faca696c5caa511b0da71ac83f61
DTSTAMP:20260422T031641Z
SUMMARY:Stories of Survival: Object. Image. Memory.
DESCRIPTION:Jewish Federation of West-Central New Jersey\nCommunity Calenda
 r\nhttps://jfedwcnj.org/calendar/stories-of-survival-object-image-memory\n
 \nStories of Survival: Object. Image. Memory.\n\nThe Institute of Holocaus
 t and Genocide Studies at Raritan Valley Community College is pleased to p
 resent an exciting new exhibition\, Stories of Survival: Object. Image. M
 emory.\, on display from January 10 until May 10.\n\nThe exhibition showca
 ses more than 60 oversized photographs of personal artifacts that were bro
 ught to America by survivors of the Holocaust and other genocides. The obj
 ects—which can be viewed to help better understand thei...
DTSTART;TZID=America/New_York:20240110T000000
DTEND;TZID=America/New_York:20240510T100000
END:VEVENT
END:VCALENDAR
