BEGIN:VCALENDAR
PRODID:-//eluceo/ical//2.0/EN
VERSION:2.0
CALSCALE:GREGORIAN
BEGIN:VEVENT
UID:7c3b98702411f0305c61e74495e4f20e
DTSTAMP:20260424T220234Z
SUMMARY:STEVE MADDEN\, THE COBBLER
DESCRIPTION:Jewish Federation of West-Central New Jersey\nCommunity Calenda
 r\nhttps://jfedwcnj.org/calendar/steve-madden-the-cobbler-1600356587\n\nEv
 eryone knows Steve Madden&rsquo\;s name and his shoes\, but few are famili
 ar with his story. Over the past thirty years Steve Madden has taken his e
 ponymous shoe company from the fledgling start-up he founded with a mere $
 1\,100 to a global\, multi-billion-dollar brand. But Madden&rsquo\;s mista
 kes\, from his battle with addiction to the financial shortcuts that lande
 d him in prison\, are as important to his story as his most iconic shoes. 
 In this raw\, intimate\, and ultimately inspiring book\, Madden holds...
DTSTART;TZID=America/New_York:20201015T200000
DTEND;TZID=America/New_York:20201015T210000
END:VEVENT
END:VCALENDAR
