BEGIN:VCALENDAR
PRODID:-//eluceo/ical//2.0/EN
VERSION:2.0
CALSCALE:GREGORIAN
BEGIN:VEVENT
UID:ab8c09b6ecf2799697b5c80aea9738b9
DTSTAMP:20260422T195236Z
SUMMARY:Step Into Spring with the Wilf Campus for Senior Living
DESCRIPTION:Jewish Federation of West-Central New Jersey\nCommunity Calenda
 r\nhttps://jfedwcnj.org/calendar/step-into-spring-with-the-wilf-campus-for
 -senior-living-1616700534\n\nJoin us to see what’s blooming this spring 
 at The Wilf Campus!\nCelebrate Earth Day and Spring\, while enjoying the a
 fternoon outdoors with us\, learning about all of our senior community of 
 programs and services!\n\nPick up a to-go lunch\, enjoy snacks\, and lots 
 of giveaways!\n\nEnter our raffle to win a pair of Apple Airpods!!\n\nWe w
 ill also be holding a food drive benefiting the Franklin Food Bank. Please
  bring non-perishable food items that have not exceeded their expiration d
 ate.\n\nThis...
DTSTART;TZID=America/New_York:20210422T120000
DTEND;TZID=America/New_York:20210422T140000
END:VEVENT
END:VCALENDAR
