BEGIN:VCALENDAR
PRODID:-//eluceo/ical//2.0/EN
VERSION:2.0
CALSCALE:GREGORIAN
BEGIN:VEVENT
UID:848d2c646092dfae5c1e06c7dddad30f
DTSTAMP:20260424T065033Z
SUMMARY:Stein Choral Group Concert
DESCRIPTION:Jewish Federation of West-Central New Jersey\nCommunity Calenda
 r\nhttps://jfedwcnj.org/calendar/stein-choral-group-concert-1426266811\n\n
 Sunday\, March 29\, 2015\, 2:00pm Stein Choral Group Concert Stein Assiste
 d Living is proud to announce their new Choral Group lead by our professio
 nal volunteer\, Ruth Matilsky. The Choral Group meets on Tuesdays at 1:30 
 PM. Join us as our Choral Group entertains us in their very first concert.
  This program will take place at Stein Assisted Living Residence\, 350 Dem
 ott Lane\, Somerset\, NJ 08873. This program is free and open to the commu
 nity. For more information please call (732) 568-1155 or ema...
DTSTART;TZID=America/New_York:20150329T140000
DTEND;TZID=America/New_York:20150329T153000
END:VEVENT
END:VCALENDAR
