BEGIN:VCALENDAR
PRODID:-//eluceo/ical//2.0/EN
VERSION:2.0
CALSCALE:GREGORIAN
BEGIN:VEVENT
UID:2996d9534728a745787202979008bb7a
DTSTAMP:20260422T190555Z
SUMMARY:SSBJCC 18th Anniversary Celebration
DESCRIPTION:Jewish Federation of West-Central New Jersey\nCommunity Calenda
 r\nhttps://jfedwcnj.org/calendar/ssbjcc-gala\n\n18th Anniversary Celebrati
 on\nDecember 2\, 2017 | 7:00pm\ncruise-image\n\nAll Aboard...  for an eve
 ning of Dinner\, Dancing\, Gambling\, Entertainment\, Scotch & Tequila Tas
 ting\, and more!\nPort of Call: 775 Talamini Rd\, Bridgewater\n\nSet Sail:
  7:00pm\n\nCouvert:\n\n\n$118/person\n$136/person (includes chips for gamb
 ling)\n\n\nPurchase your boarding pass by stopping at the Welcome Center o
 r by calling 908-725-6994.\n\nThe JCC Recognizes the following honorees fo
 r their support over the past 18...
DTSTART;TZID=America/New_York:20171202T190000
DTEND;TZID=America/New_York:20171202T220000
END:VEVENT
END:VCALENDAR
