BEGIN:VCALENDAR
PRODID:-//eluceo/ical//2.0/EN
VERSION:2.0
CALSCALE:GREGORIAN
BEGIN:VEVENT
UID:a1b7e330b6ade1ee1dad9efb6826da8d
DTSTAMP:20260421T213909Z
SUMMARY:Spring WEDU 2019 Training- Telling Our Grandparents' Story
DESCRIPTION:Jewish Federation of West-Central New Jersey\nCommunity Calenda
 r\nhttps://jfedwcnj.org/calendar/spring-wedu-2019-training--telling-our-gr
 andparents-story-1555008631\n\nSPRING 2019 TRAINING OFFERED IN BRIDGEWATER
 \, NJ FOR THE 1ST TIME Our next NYC training will be in the fallDates: Fou
 r Thursday evenings in May\, 6:30pm-9:30pmMay 2nd\, May 9th\, May 23rd\, &
  May 30thIt is important you commit to all sessionsLocation: Bridgewater\,
  NJ - Exact location will be shared with confirmed participantsDinner will
  be provided each weekSuggested Donation for Class: $72Spots fill up quick
 ly and RSVP is requiredTO RSVP (AND FOR MORE INFO)\, PLEASE EMAIL WEDU@3GN
 EWYORK.ORG
DTSTART;TZID=America/New_York:20190509T183000
DTEND;TZID=America/New_York:20190509T213000
END:VEVENT
END:VCALENDAR
