BEGIN:VCALENDAR
PRODID:-//eluceo/ical//2.0/EN
VERSION:2.0
CALSCALE:GREGORIAN
BEGIN:VEVENT
UID:40188f9f42ca1259e796e1d444e167da
DTSTAMP:20260422T201115Z
SUMMARY:Spring WEDU 2019 Training- Telling Our Grandparents' Story
DESCRIPTION:Jewish Federation of West-Central New Jersey\nCommunity Calenda
 r\nhttps://jfedwcnj.org/calendar/spring-wedu-2019-training--telling-our-gr
 andparents-story-1550091723\n\nSPRING 2019 TRAINING\nOFFERED IN BRIDGEWATE
 R\, NJ FOR THE 1ST TIME\nOur next NYC training will be in the fall\n\nDate
 s: Four Thursday evenings in May\, 6:30pm-9:30pm\n\nMay 2nd\, May 9th\, Ma
 y 23rd\, & May 30th\n\nIt is important you commit to all sessions\n\nLocat
 ion: Bridgewater\, NJ - Exact location will be shared with confirmed parti
 cipants\n\nDinner will be provided each week\n\nSuggested Donation for Cla
 ss: $72\n\nSpots fill up quickly and RSVP is required\n\nTO RSVP (AND FOR 
 MORE INFO)\, PLEA...
DTSTART;TZID=America/New_York:20190502T183000
DTEND;TZID=America/New_York:20190502T213000
END:VEVENT
END:VCALENDAR
