BEGIN:VCALENDAR
PRODID:-//eluceo/ical//2.0/EN
VERSION:2.0
CALSCALE:GREGORIAN
BEGIN:VEVENT
UID:4a2fab6d700f308b5f8c607d46ec7d53
DTSTAMP:20260422T135659Z
SUMMARY:Spring Fair at Congregation B'nai Israel in Basking Ridge
DESCRIPTION:Jewish Federation of West-Central New Jersey\nCommunity Calenda
 r\nhttps://jfedwcnj.org/calendar/spring-fair-at-congregation-bnai-israel-i
 n-basking-ridge-1681335612\n\n?? Announcement: CBI Spring Fair Goes Indoo
 rs! ??\n\n? Attention\, fairgoers! We have an exciting update to share w
 ith you. Due to forecasted weather conditions\, we have made the decision
  to move our Spring Fair indoors! ?️☂️ But don't worry\, the fun a
 nd excitement will still be in full bloom! ??\n\n??? Our dedicated team 
 has been working tirelessly to create an incredible indoor fair experience
  that will have you bursting with joy!\n\n?️?  Our Spring Fair will no
 w be held in...
DTSTART;TZID=America/New_York:20230430T110000
DTEND;TZID=America/New_York:20230430T110000
END:VEVENT
END:VCALENDAR
