BEGIN:VCALENDAR
PRODID:-//eluceo/ical//2.0/EN
VERSION:2.0
CALSCALE:GREGORIAN
BEGIN:VEVENT
UID:3669c1b13c15d279151a1fdeb114bf1d
DTSTAMP:20260426T022232Z
SUMMARY:Spring Carnival
DESCRIPTION:Jewish Federation of West-Central New Jersey\nCommunity Calenda
 r\nhttps://jfedwcnj.org/calendar/spring-carnival\n\ntba
DTSTART;TZID=America/New_York:20220501T110000
DTEND;TZID=America/New_York:20220501T150000
END:VEVENT
END:VCALENDAR
