BEGIN:VCALENDAR
PRODID:-//eluceo/ical//2.0/EN
VERSION:2.0
CALSCALE:GREGORIAN
BEGIN:VEVENT
UID:67b935865c1d6ac7b4a4270764b6e4ab
DTSTAMP:20260426T022109Z
SUMMARY:Spring BNG Dinner
DESCRIPTION:Jewish Federation of West-Central New Jersey\nCommunity Calenda
 r\nhttps://jfedwcnj.org/calendar/spring-bng\n\nFraud & Cyber Threats To Yo
 ur Business\n\nwith Guest Speaker Damion Bernard - Senior Branch Manager 
 M&T Bank\n\n6/15 5:30 pm\n\n775 Talamini Rd\, Bridgewater\n\n \n\nRSVP @ 
 JFEDSHAW.org/BNG\n\n$36 Couvert with Pre-registration\n\n$45 Couvert + 1 G
 uest w/ pre-registration\n\n$40 at the Door\n\n \n\nFor questions contact
  Lauren Edelman at 908-758-2003 or ledelman@jfedshaw.org\n\n \n\n 
DTSTART;TZID=America/New_York:20230615T173000
DTEND;TZID=America/New_York:20230615T190000
END:VEVENT
END:VCALENDAR
