BEGIN:VCALENDAR
PRODID:-//eluceo/ical//2.0/EN
VERSION:2.0
CALSCALE:GREGORIAN
BEGIN:VEVENT
UID:af26c65ce7b01427d9508f543171dd5e
DTSTAMP:20260423T071530Z
SUMMARY:Speed Networking
DESCRIPTION:Jewish Federation of West-Central New Jersey\nCommunity Calenda
 r\nhttps://jfedwcnj.org/calendar/speed-networking-1561576671\n\nJoin us fo
 r Speed Networking  Tuesday July 30\, 2019  7:30am-9:00am SSBJCC 775 Talam
 ini Road  Bridgewater\, NJ 08807 Ticket: $10  Light breakfast  To register
  please visit: www.Jfedshaw.org/bng  or call Dan Fahrer 908.758.2002
DTSTART;TZID=America/New_York:20190730T073000
DTEND;TZID=America/New_York:20190730T090000
END:VEVENT
END:VCALENDAR
