BEGIN:VCALENDAR
PRODID:-//eluceo/ical//2.0/EN
VERSION:2.0
CALSCALE:GREGORIAN
BEGIN:VEVENT
UID:528279cc902aa5483616083db20efba3
DTSTAMP:20260423T093700Z
SUMMARY:Guest Speaker - Andrew Lawler\, journalist\, and author of Under Je
 rusalem
DESCRIPTION:Jewish Federation of West-Central New Jersey\nCommunity Calenda
 r\nhttps://jfedwcnj.org/calendar/special-guest-speaker-andrew-lawler-journ
 alist-and-author-of-under-jerusalem\n\nJoin us on January 20th for a rivet
 ing talk by Andrew Lawler\, journalist\, and author of Under Jerusalem. We
  will meet at 7:00 pm on Zoom Under Jerusalem is available through Bookwor
 m. Please call (908) 766-4599 to arrange for a copy.
DTSTART;TZID=America/New_York:20220120T190000
DTEND;TZID=America/New_York:20220120T210000
END:VEVENT
END:VCALENDAR
