BEGIN:VCALENDAR
PRODID:-//eluceo/ical//2.0/EN
VERSION:2.0
CALSCALE:GREGORIAN
BEGIN:VEVENT
UID:a05418957954ede0b1413570c85b0e2b
DTSTAMP:20260422T165354Z
SUMMARY:Special Event: The Catskills\, Its History and How it Changed Ameri
 ca
DESCRIPTION:Jewish Federation of West-Central New Jersey\nCommunity Calenda
 r\nhttps://jfedwcnj.org/calendar/special-event-the-catskills-its-history-a
 nd-how-it-changed-america\n\n$5 / person includes bagel "and"\n\nFor all t
 hose who spent summers in The Catskills\, relive the memories!! For those 
 who didn't\, learn about the great history this special haven offered to t
 housands.\n\nThe Catskills are legndary...home to poets\, artists\, huckst
 ers\, gangsters\, idealists\, tycoons\, prize fighters\, poiticians\, prea
 chers and outlaws\, musicicans\, spiritualists\, outcasts and rebels\, yet
  their centrality to the Americana experience has largely gone undiscovere
 d. Stephen M Silverman...
DTSTART;TZID=America/New_York:20151029T120000
DTEND;TZID=America/New_York:20151029T130000
END:VEVENT
END:VCALENDAR
