BEGIN:VCALENDAR
PRODID:-//eluceo/ical//2.0/EN
VERSION:2.0
CALSCALE:GREGORIAN
BEGIN:VEVENT
UID:1c87b6cbfe159406a3fcadf20a1afb77
DTSTAMP:20260423T104418Z
SUMMARY:SPECIAL EVENT: Addressing  Modern-Day Slavery
DESCRIPTION:Jewish Federation of West-Central New Jersey\nCommunity Calenda
 r\nhttps://jfedwcnj.org/calendar/special-event-addressing-modern-day-slave
 ry\n\nRabbi Rachel Kahn-Troster\n\nLocation: CKS\n\nFree to all Conregatio
 n Kehilat Shalom Members.\nSuggested donation of $7/person for all others
  (includes voucher for bagel cafe) \n\nThe Jewish story of our own freedo
 m from bondage\, challenges us to work for the freedom of all people. Rabb
 i Rachel Kahn-Troster\, Director of Programs at T'ruah: The Rabbinic Call 
 for Human Rights\, will discuss the unfortunate reality of slavery in the 
 world today\, including the United States. She will also focus ...
DTSTART;TZID=America/New_York:20151101T100000
DTEND;TZID=America/New_York:20151101T120000
END:VEVENT
END:VCALENDAR
