BEGIN:VCALENDAR
PRODID:-//eluceo/ical//2.0/EN
VERSION:2.0
CALSCALE:GREGORIAN
BEGIN:VEVENT
UID:63aea11bb0b5791966ab9be0cee6bef5
DTSTAMP:20260422T135319Z
SUMMARY:SPEAKER SERIES: Rabbi Michael Schudrich\, Chief Rabbi of Poland
DESCRIPTION:Jewish Federation of West-Central New Jersey\nCommunity Calenda
 r\nhttps://jfedwcnj.org/calendar/speaker-series-rabbi-michael-schudrich-ch
 ief-rabbi-of-poland-1443637511\n\nSPONSORS: Sharon Frant Brooks and the Sh
 muel Frand Holocaust Education Fund\, honoring Milton Frant\, brother of S
 hmuel Frand. Shmuel Frand was a victim of the Shoah\, along with his exten
 ed family in Dubiecko and Dynow\, Poland. Milton Frant suffered Polish ant
 i-semitism but escaped prior to the Nazi occupation.
DTSTART;TZID=America/New_York:20151123T190000
DTEND;TZID=America/New_York:20151123T210000
END:VEVENT
END:VCALENDAR
