BEGIN:VCALENDAR
PRODID:-//eluceo/ical//2.0/EN
VERSION:2.0
CALSCALE:GREGORIAN
BEGIN:VEVENT
UID:f6b0d10751db0d5f03cdc1b9611da582
DTSTAMP:20260421T060436Z
SUMMARY:SPEAKER SERIES: Israel: Her Neighbors & Her Goals
DESCRIPTION:Jewish Federation of West-Central New Jersey\nCommunity Calenda
 r\nhttps://jfedwcnj.org/calendar/speaker-series-israel-her-neighbors--her-
 goals-1443640085\n\nSPEAKER SERIES: Ilan Berman\, VP\, American Foreign Po
 licy Institute Israel: Her Neighbors & Her GoalsIlan Berman\, an expert on
  regional security in the Middle East\, Central Asia\, and the Russian Fed
 eration\, he has consulted for both the U.S. Central Intelligence Agency a
 nd the U.S. Depoartment of Defense\, and provded assistance on foreign pol
 icy and national security issues to a range of governmental agencies and c
 ongressional offices. He has been called one of America's "leading experts
  on th...
DTSTART;TZID=America/New_York:20160306T103000
DTEND;TZID=America/New_York:20160306T113000
END:VEVENT
END:VCALENDAR
