BEGIN:VCALENDAR
PRODID:-//eluceo/ical//2.0/EN
VERSION:2.0
CALSCALE:GREGORIAN
BEGIN:VEVENT
UID:ae6fb49594f925775ccf42757ed9800b
DTSTAMP:20260421T234013Z
SUMMARY:Soulfarm: The Clair and Irving Teicher Concer Series
DESCRIPTION:Jewish Federation of West-Central New Jersey\nCommunity Calenda
 r\nhttps://jfedwcnj.org/calendar/soulfarm-the-clair-and-irving-teicher-con
 cer-series-1462898087\n\nJoin us for a special concert by Soulfarm. Soulfa
 rm was founded in Israel by Grammy Award winner lead guitarist C Lanzbom a
 nd guitarist and lead singer Noah Solomon Chase. Their sound has been dubb
 ed as New American music\, full melodic song writing and progressive moder
 n arrangements. Their live shows are full of Mediterranean flavor with cap
 tivating guitar leads\, dance rhythms and strong percussion breaks. Soulfa
 rm has recorded with many well-known musicians such as Perry Farrel and Di
 spatch...
DTSTART;TZID=America/New_York:20160522T160000
DTEND;TZID=America/New_York:20160522T180000
END:VEVENT
END:VCALENDAR
