BEGIN:VCALENDAR
PRODID:-//eluceo/ical//2.0/EN
VERSION:2.0
CALSCALE:GREGORIAN
BEGIN:VEVENT
UID:ddb9fcd6ff55d6fbfcbc7ce14bb73b71
DTSTAMP:20260420T192605Z
SUMMARY:Something Beautiful Happened
DESCRIPTION:Jewish Federation of West-Central New Jersey\nCommunity Calenda
 r\nhttps://jfedwcnj.org/calendar/something-beautiful-happened-a-story-of-s
 urvival-faith-and-courage-in-the-face-of-evil\n\nSeventy years after her g
 randmother helped hide a Jewish family on a Greek island during World War 
 II\, Yvette Corporon sets out to track down their descendants\, and discov
 ers a new way to understand tragedy\, forgiveness and the power of kindnes
 s. In beautifully told interweaving storylines\, the past and present come
  together in a nuanced\, heartfelt story about the power of faith\, the im
 portance of kindness\, and the courage to stand up for what’s right in t
 he face of evil.\n\nYvette Corporon...
DTSTART;TZID=America/New_York:20180118T190000
DTEND;TZID=America/New_York:20180118T210000
END:VEVENT
END:VCALENDAR
