BEGIN:VCALENDAR
PRODID:-//eluceo/ical//2.0/EN
VERSION:2.0
CALSCALE:GREGORIAN
BEGIN:VEVENT
UID:e54eb8a9959adeeca9e69eb16a723cd3
DTSTAMP:20260422T005220Z
SUMMARY:SMOOCHY S'mores & Cinema in the Sukkah
DESCRIPTION:Jewish Federation of West-Central New Jersey\nCommunity Calenda
 r\nhttps://jfedwcnj.org/calendar/smoochy-smores-cinema-in-the-sukkah\n\n
DTSTART;TZID=America/New_York:20241019T190000
DTEND;TZID=America/New_York:20241019T220000
END:VEVENT
END:VCALENDAR
