BEGIN:VCALENDAR
PRODID:-//eluceo/ical//2.0/EN
VERSION:2.0
CALSCALE:GREGORIAN
BEGIN:VEVENT
UID:6496b688f2f45056c97e4a06491293be
DTSTAMP:20260422T200217Z
SUMMARY:SIX13 CONCERT
DESCRIPTION:Jewish Federation of West-Central New Jersey\nCommunity Calenda
 r\nhttps://jfedwcnj.org/calendar/six13-concert\n\nPopular a Capella Jewish
  music group\, Six13\, will help us in celebrating Yom Ha’Atzmaut throu
 gh a joyous 30 minute musical performance! There will be opportunity for 
 Q&A with the group following the concert. Dancing will be highly encoura
 ged!\n\n \n\n\n\n\n\n 
DTSTART;TZID=America/New_York:20210415T193000
DTEND;TZID=America/New_York:20210415T200000
END:VEVENT
END:VCALENDAR
