BEGIN:VCALENDAR
PRODID:-//eluceo/ical//2.0/EN
VERSION:2.0
CALSCALE:GREGORIAN
BEGIN:VEVENT
UID:ab2a238fed476eb942ea07069fa22310
DTSTAMP:20260421T230743Z
SUMMARY:Sisterhood of Temple Sholom Presents Latkes & Vodkas Comedy Night
DESCRIPTION:Jewish Federation of West-Central New Jersey\nCommunity Calenda
 r\nhttps://jfedwcnj.org/calendar/sisterhood-of-temple-sholom-presents-latk
 es--vodkas-comedy-night-1683134328\n\nMore event details to become availab
 le soon! Including our featured entertainer. \nFor future information and 
 event details  for this event please visit https://www.facebook.com/Sister
 hoodOfTS
DTSTART;TZID=America/New_York:20231216T190000
DTEND;TZID=America/New_York:20231216T210000
END:VEVENT
END:VCALENDAR
