BEGIN:VCALENDAR
PRODID:-//eluceo/ical//2.0/EN
VERSION:2.0
CALSCALE:GREGORIAN
BEGIN:VEVENT
UID:bb452f462941a05572f0b625b5df2f0d
DTSTAMP:20260423T003934Z
SUMMARY:Sisterhood of Temple Sholom Brunch
DESCRIPTION:Jewish Federation of West-Central New Jersey\nCommunity Calenda
 r\nhttps://jfedwcnj.org/calendar/sisterhood-of-temple-sholom-brunch-168720
 9315\n\nSisterhood of Temple Sholom Annual Brunch
DTSTART;TZID=America/New_York:20231022T100000
DTEND;TZID=America/New_York:20231022T120000
END:VEVENT
END:VCALENDAR
