BEGIN:VCALENDAR
PRODID:-//eluceo/ical//2.0/EN
VERSION:2.0
CALSCALE:GREGORIAN
BEGIN:VEVENT
UID:7597ce3592f5dd11dc332725fa239101
DTSTAMP:20260424T014550Z
SUMMARY:SINCE JOEL- JULIE L. SCHWARTZ
DESCRIPTION:Jewish Federation of West-Central New Jersey\nCommunity Calenda
 r\nhttps://jfedwcnj.org/calendar/since-joel--julie-l-schwartz-1600783440\n
 \nSince Joel tackles what happens when the unimaginable loss of a child be
 comes reality. Julie Schwartz introduces readers to her son Joel David Sch
 wartz\, who lived with autism spectrum disorder and died by accidental ove
 rdose at age 25. Joel’s unique cognition created situations where he baf
 fled yet informed\, infuriated yet endeared\, lost and yet won. His mother
  describes how Joel was a “charming nerd\,” inviting us to get to know
  him in all his complicated detail. She ultimately asks...
DTSTART;TZID=America/New_York:20210209T190000
DTEND;TZID=America/New_York:20210209T210000
END:VEVENT
END:VCALENDAR
