BEGIN:VCALENDAR
PRODID:-//eluceo/ical//2.0/EN
VERSION:2.0
CALSCALE:GREGORIAN
BEGIN:VEVENT
UID:484e687cb028b223a2a5459563152462
DTSTAMP:20260423T005329Z
SUMMARY:Shop for a Cause
DESCRIPTION:Jewish Federation of West-Central New Jersey\nCommunity Calenda
 r\nhttps://jfedwcnj.org/calendar/shop-for-a-cause713\n\nShop for a cause i
 n support of Dignity Grows \n\nDIGNITY GROWS PROVIDES TOTE BAGS filled wi
 th hygiene AND menstrual PRODUCTS TO members of OUR COMMUNITY WHO experien
 ce PERIOD POVERty—THE inability to afford these basic monthly NECESSITIE
 S.\n\n \n\nNEARLY 30% OF American woman experience period poverty. It kee
 ps students home from school and adults home from work.\n\n \n\nHUMAN DIG
 NITY SHOULD NOT BE A LUXURY.\n\n \n\nParticiapating stores \n\nEsquared\
 , Oloctt squared\,Lupa ApothecarY\, B ...
DTSTART;TZID=America/New_York:20230713T110000
DTEND;TZID=America/New_York:20230713T190000
END:VEVENT
END:VCALENDAR
