BEGIN:VCALENDAR
PRODID:-//eluceo/ical//2.0/EN
VERSION:2.0
CALSCALE:GREGORIAN
BEGIN:VEVENT
UID:7a2200c59ad801fd60d22a3285e58fd1
DTSTAMP:20260423T114317Z
SUMMARY:Shop for a Cause
DESCRIPTION:Jewish Federation of West-Central New Jersey\nCommunity Calenda
 r\nhttps://jfedwcnj.org/calendar/shop-for-a-cause\n\nThe Women's Philanthr
 opy division of the Jewish Federation of Somerset\, Hunterdon & Warren Cou
 nties is holding their Spring fundraiser. The event will include vender sh
 opping and 20% of money will come back to the Federation.  The event will
  be $36 and include dessert and sparkling wine. please RSVP by March 14th 
 to Jfedshaw.org/women or 908-758-2003.\n\nProceeds from the event will sup
 port Holocaust Survivors in need here at home and overseas. 
DTSTART;TZID=America/New_York:20190328T190000
DTEND;TZID=America/New_York:20190328T213000
END:VEVENT
END:VCALENDAR
