BEGIN:VCALENDAR
PRODID:-//eluceo/ical//2.0/EN
VERSION:2.0
CALSCALE:GREGORIAN
BEGIN:VEVENT
UID:3ce65d378097343a0f07f953e8bbd54e
DTSTAMP:20260420T120118Z
SUMMARY:Shoah Ambassadors\, a Learning Through Experience Program
DESCRIPTION:Jewish Federation of West-Central New Jersey\nCommunity Calenda
 r\nhttps://jfedwcnj.org/calendar/shoah-ambassadors-a-learning-through-expe
 rience-program\n\nShoah Ambassadors\, a Learning Through Experience Progra
 m. Shoah Ambassadors is a remarkable documentary film directed and produc
 ed by Keith Famie\, bringing a new understanding of the Holocaust. The fil
 m focuses on two young adult ambassadors\, Curtis Bates and Hailey Callaha
 n. We travel with Curtis and Hailey through their educational journey in l
 earning about the Holocaust\, as they process what they have learned\, and
  then respond through their own unique artistic expression. A Q&A will fol
 lo...
DTSTART;TZID=America/New_York:20251112T100000
DTEND;TZID=America/New_York:20251112T113000
END:VEVENT
END:VCALENDAR
