BEGIN:VCALENDAR
PRODID:-//eluceo/ical//2.0/EN
VERSION:2.0
CALSCALE:GREGORIAN
BEGIN:VEVENT
UID:c36ae5925e1919d6230154bd9b2eb68c
DTSTAMP:20260421T134649Z
SUMMARY:Shavuot Learning Food Community
DESCRIPTION:Jewish Federation of West-Central New Jersey\nCommunity Calenda
 r\nhttps://jfedwcnj.org/calendar/shavuot-learning-food-community\n\nAll Ag
 es! Youth Programming Available\n\nTemple Beth-El\, Knesseth Israel\, Temp
 le Sholom will share their insights on CHAI ANXIETY: Insights to help navi
 gate troubled times.\n\nSaturday\, June 8 from 7-9:30 pm at TEMPLE SHOLOM\
 , 594 N. Bridge St.\, Bridgewater\, NJ  08807 (908) 722-1339\n\nJoin frie
 mds old and new for insightful learning with Rabbis Gluck\, Wylen\, and Se
 lsberg along with T'fillah and Cheesecake!
DTSTART;TZID=America/New_York:20190608T190000
DTEND;TZID=America/New_York:20190608T213000
END:VEVENT
END:VCALENDAR
