BEGIN:VCALENDAR
PRODID:-//eluceo/ical//2.0/EN
VERSION:2.0
CALSCALE:GREGORIAN
BEGIN:VEVENT
UID:19625df482526a1bbe6cd92e7fa9f4c6
DTSTAMP:20260423T010345Z
SUMMARY:Shavout Celebration
DESCRIPTION:Jewish Federation of West-Central New Jersey\nCommunity Calenda
 r\nhttps://jfedwcnj.org/calendar/shavout-celebration-1619728248\n\nShavout
  Celebration Sunday\, May 16 at 10 AMJoin us in-person for a sweet start t
 o your day as we celebrate Shavuot! We’ll read a PJ Library story\, enjo
 y a holiday inspired craft\, and make our own ice cream! We’ll start our
  program with a light brunch.All Covid Safety Protocols will be followed. 
  $25.00 - $30.00 per family
DTSTART;TZID=America/New_York:20210516T100000
DTEND;TZID=America/New_York:20210516T120000
END:VEVENT
END:VCALENDAR
