BEGIN:VCALENDAR
PRODID:-//eluceo/ical//2.0/EN
VERSION:2.0
CALSCALE:GREGORIAN
BEGIN:VEVENT
UID:d532e2e5cbc4ded61042d134e9011928
DTSTAMP:20260422T065318Z
SUMMARY:Shared Legacies: The African-American Jewish Civil Rights Alliance
DESCRIPTION:Jewish Federation of West-Central New Jersey\nCommunity Calenda
 r\nhttps://jfedwcnj.org/calendar/shared-legacies-the-african-american-jewi
 sh-civil-rights-alliance-1610643613\n\nShared Legacies a documentary on th
 e often-forgotten story of the coalition and friendship between the Jewish
  and African-American communities during the Civil Rights Movement. \n\nIn
  honor of Martin Luther King\, Jr Day\, the Moskovitz Felling Center Serie
 s fund has arranged streaming rights to this documentary from Saturday\, J
 anuary 16\, 6:00 pm through Tuesday\, January 19\, 6:00 pm\, so that you w
 ill be able to stream the documentary before the panel discussion\, at 7:3
 0pm on Saturday January...
DTSTART;TZID=America/New_York:20210116T180000
DTEND;TZID=America/New_York:20210119T180000
END:VEVENT
END:VCALENDAR
