BEGIN:VCALENDAR
PRODID:-//eluceo/ical//2.0/EN
VERSION:2.0
CALSCALE:GREGORIAN
BEGIN:VEVENT
UID:2c759f5d5b89747d9fb2e5743ce3fd25
DTSTAMP:20260422T111952Z
SUMMARY:Shabbaton Honoring Arthur & Betty Roswell
DESCRIPTION:Jewish Federation of West-Central New Jersey\nCommunity Calenda
 r\nhttps://jfedwcnj.org/calendar/shabbaton-honoring-arthur--betty-roswell-
 1467390264\n\nOn Saturday\, 12/10\, at Temple Beth El\, Hillsborough\, Ser
 vices 10:00 AM  followed by luncheon 12:00 PM\n\nOn Sunday \, 12/11\,  4:0
 0 PM  the celebration continues with Anat Hoffman also at Temple Beht El\,
  Hillsborough.\n
DTSTART;TZID=America/New_York:20161210T100000
DTEND;TZID=America/New_York:20161211T180000
END:VEVENT
END:VCALENDAR
