BEGIN:VCALENDAR
PRODID:-//eluceo/ical//2.0/EN
VERSION:2.0
CALSCALE:GREGORIAN
BEGIN:VEVENT
UID:e542775950395632d3260b3cb2ab7b66
DTSTAMP:20260422T010327Z
SUMMARY:Shabbat Study: Supreme Court Decisions Through a Jewish Lens
DESCRIPTION:Jewish Federation of West-Central New Jersey\nCommunity Calenda
 r\nhttps://jfedwcnj.org/calendar/shabbat-study-supreme-court-decisions-thr
 ough-a-jewish-lens-1666818601\n\nRabbi Randi Musnitsky will lead a discuss
 ion about how recent court decisions have chipped away at the separation o
 f church and state. She will look at how current court rulings affect our 
 individual rights and what Reform Judaism says about these rulings. Rabbi 
 Musnitsky will also look at how we can make our own voices heard when rule
 s and laws conflict with our own beliefs. A bagel and lox breakfast will b
 e served. This program is being offered through Temple Har Shalom's Lifelo
 ng Learning...
DTSTART;TZID=America/New_York:20221105T093000
DTEND;TZID=America/New_York:20221105T110000
END:VEVENT
END:VCALENDAR
