BEGIN:VCALENDAR
PRODID:-//eluceo/ical//2.0/EN
VERSION:2.0
CALSCALE:GREGORIAN
BEGIN:VEVENT
UID:0f8a692afbe58c0cd52c382163a509a8
DTSTAMP:20260421T054811Z
SUMMARY:Shabbat La Vida Loca
DESCRIPTION:Jewish Federation of West-Central New Jersey\nCommunity Calenda
 r\nhttps://jfedwcnj.org/calendar/shabbat-la-vida-loca-1742325996\n\nTemple
  Har Shalom invites you to come celebrate the Jewish community of Latin Am
 erica at a very special musical Shabbat on Friday\, March 28th at 7:00 PM.
   At our "Shabbat La Vida Loca"\,  Cantor Marina Shemesh will be sharing h
 er experiences from "A Musical Jewish Heritage Journey to Argentina" led b
 y the Cantors of the ACC.  This Shabbat Service will feature joyous and up
 lifting Latin American rhythms led by Cantor Shemesh\, Cantor Mark Biddelm
 an\,  and other guest musicians. We will continue...
DTSTART;TZID=America/New_York:20250328T190000
DTEND;TZID=America/New_York:20250328T210000
END:VEVENT
END:VCALENDAR
