BEGIN:VCALENDAR
PRODID:-//eluceo/ical//2.0/EN
VERSION:2.0
CALSCALE:GREGORIAN
BEGIN:VEVENT
UID:53e1cd6d7d48874ce0f0b6e46fcab36b
DTSTAMP:20260422T053712Z
SUMMARY:Shabbat Dinner
DESCRIPTION:Jewish Federation of West-Central New Jersey\nCommunity Calenda
 r\nhttps://jfedwcnj.org/calendar/shabbat-dinner-1472172807\n\nThis is a re
 gular monthly Shabbat dinner following Friday night services.
DTSTART;TZID=America/New_York:20160923T183000
DTEND;TZID=America/New_York:20160923T210000
END:VEVENT
END:VCALENDAR
