BEGIN:VCALENDAR
PRODID:-//eluceo/ical//2.0/EN
VERSION:2.0
CALSCALE:GREGORIAN
BEGIN:VEVENT
UID:2a5c874319a8dd1932188f6ea24f49a5
DTSTAMP:20260422T231925Z
SUMMARY:Shabbat Across America Dinner & Service
DESCRIPTION:Jewish Federation of West-Central New Jersey\nCommunity Calenda
 r\nhttps://jfedwcnj.org/calendar/shabbat-across-america-dinner-service\n\n
 CKI invites you to come and share  a traditional Shabbat chicken dinner\, 
 followed by a Shabbat service and Oneg Shabbat refreshments. There is no c
 harge for dinner\; please RSVP to SAA@ckibbnj.org by February 26.
DTSTART;TZID=America/New_York:20240301T183000
DTEND;TZID=America/New_York:20240301T213000
END:VEVENT
END:VCALENDAR
