BEGIN:VCALENDAR
PRODID:-//eluceo/ical//2.0/EN
VERSION:2.0
CALSCALE:GREGORIAN
BEGIN:VEVENT
UID:245a37991e3761f76d194f001f3ce67a
DTSTAMP:20260421T151350Z
SUMMARY:Shabbat Across America Dinner & Service
DESCRIPTION:Jewish Federation of West-Central New Jersey\nCommunity Calenda
 r\nhttps://jfedwcnj.org/calendar/shabbat-across-america-dinner--service-15
 50421532\n\nCKI hosts a &quot\;Shabbat Across America&quot\; Dinner &amp\;
  Service. $8 for adults\, $5 for children under 13. RSVP for dinner by 2/2
 6 to info@ckibbnj.org.
DTSTART;TZID=America/New_York:20190301T183000
DTEND;TZID=America/New_York:20190301T210000
END:VEVENT
END:VCALENDAR
