BEGIN:VCALENDAR
PRODID:-//eluceo/ical//2.0/EN
VERSION:2.0
CALSCALE:GREGORIAN
BEGIN:VEVENT
UID:c2893d7a063d2ede20ead590baefe213
DTSTAMP:20260422T020627Z
SUMMARY:Shabbat Across America Dinner &  Service
DESCRIPTION:Jewish Federation of West-Central New Jersey\nCommunity Calenda
 r\nhttps://jfedwcnj.org/calendar/shabbat-across-america-dinner---service-1
 424360993\n\nCongregation Knesseth Israel in Bound Brook welcomes all to j
 oin us at &quot\;Shabbat Across America&quot\; on Friday\, March 13th.  A 
 kosher dinner will be served at 6:30 pm - $8 for adults\, and $5 for child
 ren under 13. Please RSVP for dinner by contacting info@ckibbnj.org or 732
 -469-0934.   Services follow at 8:00 pm\, and refreshments will be served 
 at the Oneg Shabbat afterwards.
DTSTART;TZID=America/New_York:20150313T183000
DTEND;TZID=America/New_York:20150313T213000
END:VEVENT
END:VCALENDAR
