BEGIN:VCALENDAR
PRODID:-//eluceo/ical//2.0/EN
VERSION:2.0
CALSCALE:GREGORIAN
BEGIN:VEVENT
UID:5a2ba06d9a7a2bf0e472b849f5a6608e
DTSTAMP:20260420T180950Z
SUMMARY:Shabbat Across America
DESCRIPTION:Jewish Federation of West-Central New Jersey\nCommunity Calenda
 r\nhttps://jfedwcnj.org/calendar/shabbat-across-america-1519827022\n\nCong
 regation Knesseth Israel in Bound Brook invites Jewish singles\, couples\,
  & families in our area to join us for "Shabbat Across America" dinner and
  service on March 9\, 2018.  A kosher chicken dinner with side dishes will
  be served at 6:30 pm (please arrive at 6:15 pm).\n\n$8 for adults\, $5 fo
 r children under 13.  RSVP for dinner by March 6 to info@ckibbnj.org.\n
DTSTART;TZID=America/New_York:20180309T183000
DTEND;TZID=America/New_York:20180309T213000
END:VEVENT
END:VCALENDAR
