BEGIN:VCALENDAR
PRODID:-//eluceo/ical//2.0/EN
VERSION:2.0
CALSCALE:GREGORIAN
BEGIN:VEVENT
UID:55796c5c081fc9df2f9405f4d6a79d68
DTSTAMP:20260422T163532Z
SUMMARY:Shabbat Across America
DESCRIPTION:Jewish Federation of West-Central New Jersey\nCommunity Calenda
 r\nhttps://jfedwcnj.org/calendar/shabbat-across-america-1486265669\n\nEnjo
 y a &quot\;taste of Shabbat&quot\; at CKI.   At 6:30 pm\, a kosher chicken
  dinner will be served - $8 for adults\, $5 for under 13.  RSVP for dinner
  by February 24 to info@ckibbnj.org. The Shabbat Service led by Rabbi Kram
 er starts at 8:00 pm and is open to all\; dessert at the Oneg Shabbat foll
 ows the service.\n
DTSTART;TZID=America/New_York:20170303T183000
DTEND;TZID=America/New_York:20170303T213000
END:VEVENT
END:VCALENDAR
