BEGIN:VCALENDAR
PRODID:-//eluceo/ical//2.0/EN
VERSION:2.0
CALSCALE:GREGORIAN
BEGIN:VEVENT
UID:cd562a7795524c197b0fa71c21c04e58
DTSTAMP:20260422T172810Z
SUMMARY:Sexual Harassment in our Changing Work Culture: A Business Q & A
DESCRIPTION:Jewish Federation of West-Central New Jersey\nCommunity Calenda
 r\nhttps://jfedwcnj.org/calendar/sexual-harassment-in-our-changing-work-cu
 lture-a-business-q--a-1544813442\n\nSexual Harassment in our Changing Work
  Culture: A Business Q & A with an Employment Lawyer Representing Manageme
 nt\n\nJoin the Business Networking Group for a networking Breakfast and Ke
 ynote speaker: Mark Saloman\, Partner FordHarrison LLP. He will be speakin
 g about Sexual Harassment in our changing work culture.\n\n \n\nTickets: 
 $ 35 online and $40 at the door.
DTSTART;TZID=America/New_York:20190123T073000
DTEND;TZID=America/New_York:20190123T090000
END:VEVENT
END:VCALENDAR
