BEGIN:VCALENDAR
PRODID:-//eluceo/ical//2.0/EN
VERSION:2.0
CALSCALE:GREGORIAN
BEGIN:VEVENT
UID:c76b6da1b349c37a719991dea2885d35
DTSTAMP:20260424T233146Z
SUMMARY:Series on End of Life : Part 3
DESCRIPTION:Jewish Federation of West-Central New Jersey\nCommunity Calenda
 r\nhttps://jfedwcnj.org/calendar/series-on-end-of-life-part-3\n\n“Many o
 f us have lost loved ones over the years\, or are taking care of ill and a
 ging parents\, or have been dealing with chronic illnesses or physical tra
 uma of their own” says Rabbi Falk. “Many people have questions on how 
 to make sense of suffering\, on Jewish beliefs about afterlife\, and on wh
 ether Jewish practices and rituals exist that can help us during these oft
 en difficult lifecycle transitions. This series of adult education classes
  is meant to answer these questions.”\n\n \n...
DTSTART;TZID=America/New_York:20160403T093000
DTEND;TZID=America/New_York:20160403T113000
END:VEVENT
END:VCALENDAR
