BEGIN:VCALENDAR
PRODID:-//eluceo/ical//2.0/EN
VERSION:2.0
CALSCALE:GREGORIAN
BEGIN:VEVENT
UID:dc4b0cf5ca02af1d567897320a63068a
DTSTAMP:20260421T032443Z
SUMMARY:Series on  End of Life :  Part 1
DESCRIPTION:Jewish Federation of West-Central New Jersey\nCommunity Calenda
 r\nhttps://jfedwcnj.org/calendar/series-on--end-of-life---part-1-145286930
 5\n\n“Many of us have lost loved ones over the years\, or are taking car
 e of ill and aging parents\, or have been dealing with chronic illnesses o
 r physical trauma of their own” says Rabbi Falk. “Many people have que
 stions on how to make sense of suffering\, on Jewish beliefs about afterli
 fe\, and on whether Jewish practices and rituals exist that can help us du
 ring these often difficult lifecycle transitions. This series of adult edu
 cation classes is meant to answer these questions.”\n\nCongr...
DTSTART;TZID=America/New_York:20160117T093000
DTEND;TZID=America/New_York:20160117T113000
END:VEVENT
END:VCALENDAR
