BEGIN:VCALENDAR
PRODID:-//eluceo/ical//2.0/EN
VERSION:2.0
CALSCALE:GREGORIAN
BEGIN:VEVENT
UID:8a140968053c0734ae726f513ab2af82
DTSTAMP:20260425T104646Z
SUMMARY:Senior Mixer: Wine Tasting
DESCRIPTION:Jewish Federation of West-Central New Jersey\nCommunity Calenda
 r\nhttps://jfedwcnj.org/calendar/senior-mixer-wine-tasting-1466793163\n\nJ
 oin us at Old York Cellars for an afternoon of wine tasting!$25 per person
 * Includes wine tasting & lunch*For seniors\, 65+
DTSTART;TZID=America/New_York:20160726T120000
DTEND;TZID=America/New_York:20160726T140000
END:VEVENT
END:VCALENDAR
